Workbook
Name register_beeldmateriaal_bereik: Verwerkingsregister!$33:$33
Name register_betalingenWekelijkseActiviteiten_bereik: Verwerkingsregister!$14:$14
Name register_carpoollijstenKampen_bereik: Verwerkingsregister!$31:$31
Name register_carpoollijstenWekelijkseActiviteiten_bereik: Verwerkingsregister!$17:$17
Name register_individueleSteekkaartenPapier_bereik: Verwerkingsregister!$6:$6
Name register_inschrijvenGeldactiviteiten_bereik: Verwerkingsregister!$18:$20
Name register_inschrijvenGeldactiviteitenPapier_bereik: Verwerkingsregister!$20:$20
Name register_inschrijvenKampen_bereik: Verwerkingsregister!$21:$25
Name register_inschrijvenKampenPapier_bereik: Verwerkingsregister!$24:$24
Name register_inschrijvenWekelijkseActiviteiten_bereik: Verwerkingsregister!$11:$14
Name register_inschrijvenWekelijkseActiviteitenPapier_bereik: Verwerkingsregister!$13:$13
Name register_kampboekjes_bereik: Verwerkingsregister!$27:$27
Name register_mailinglijsten_bereik: Verwerkingsregister!$8:$8
Name register_oudleidingsbestand_bereik: Verwerkingsregister!$9:$9
Name register_probeerders_bereik: Verwerkingsregister!$7:$7
Name register_programmaboekjes_bereik: Verwerkingsregister!$34:$34
Name register_verhuur_bereik: Verwerkingsregister!$36:$37
Name uniek_controle: #REF!

Sheet Verwerkingsregister
A1: Algemene informatie | E1: Belanghebbenden | I1: Verwerkte gegevens | M1: Juridische kwalificaties | O1: Volgorde
A2: Naam hoofdproces | B2: Naam deelproces | C2: Naam sub-deelproces | D2: Categorieën verwerking | E2: Categorieën betrokkenen | F2: Verantwoordelijken | G2: Verwerkers | H2: Ontvangers | I2: Persoonsgegevens | J2: Gegevensbron | K2: Gebruikte technologie | L2: Bewaartermijn | M2: Verwerkingsdoel | N2: Verwerkingsgrond
A3: Ledenadministratie | B3: Nieuw lid | C3: Gegevens opvragen | D3: =Lijsten!B4&", "&Lijsten!B5 -> Normale verwerking, Gegevens van minderjarigen | E3: =Lijsten!B10&", "&Lijsten!B11&", "&Lijsten!B12 -> Lid, Leiding, Ouder/voogd | F3: =Lijsten!$B$22 -> Scouts en Gidsen Vlaanderen vzw | G3: =IF(F3=Lijsten!$B$22,Lijsten!$B$27,Lijsten!$B$26) -> L1612G - Sint-Servaes | H3: =Lijsten!$B$30 -> Geen ontvanger | I3: =Lijsten!$D$4&", "&Lijsten!$D$5&", "&Lijsten!$D$15&", "&Lijsten!$D$16&", "&Lijsten!$D$18&", "&Lijsten!$D$20&", "&Lijsten!$D$24&", "&Lijsten!$D$30&", "&Lijsten!$D$38 -> Adres, Bankrekeningnummer, E-mailadres, Financiële hulp, Geboortedatum, Geslacht, IP-adres, Naam, Telefoonnummer | J3: =Lijsten!B36&", "&Lijsten!B37 -> Betrokkene zelf, Ouder/voogd van betrokkene | K3: =[1]Vragenlijst!I3 -> Groepsadministratie | L3: 10 jaar | M3: =Lijsten!F19 -> Ledenbeheer | N3: =Lijsten!F28 -> Uitvoering van een contract/overeenkomst | O3: 1
A4: Ledenadministratie | B4: Nieuw lid | C4: Gegevens invoeren in Groepsadmin | D4: =D3 -> Normale verwerking, Gegevens van minderjarigen | E4: =E3 -> Lid, Leiding, Ouder/voogd | F4: =Lijsten!$B$22 -> Scouts en Gidsen Vlaanderen vzw | G4: =IF(F4=Lijsten!$B$22,Lijsten!$B$27,Lijsten!$B$26) -> L1612G - Sint-Servaes | H4: =Lijsten!$B$30 -> Geen ontvanger | I4: =I3 -> Adres, Bankrekeningnummer, E-mailadres, Financiële hulp, Geboortedatum, Geslacht, IP-adres, Naam, Telefoonnummer | J4: =J3 -> Betrokkene zelf, Ouder/voogd van betrokkene | K4: =K3 -> Groepsadministratie | L4: =L3 -> 10 jaar | M4: =M3 -> Ledenbeheer | N4: =N3 -> Uitvoering van een contract/overeenkomst | O4: 2
A5: Ledenadministratie | B5: Individuele steekkaart | C5: Gegevens opvragen | D5: =Lijsten!B4&", "&Lijsten!B5&", "&Lijsten!B6&", "&Lijsten!B7 -> Normale verwerking, Gegevens van minderjarigen, Gegevens waaruit religieuze of levenbeschouwelijke overtuigingen blijken, Gezondheidsgegevens | E5: =Lijsten!B10&", "&Lijsten!B11&", "&Lijsten!B12&", "&Lijsten!B13 -> Lid, Leiding, Ouder/voogd, Familie van lid | F5: =Lijsten!$B$22 -> Scouts en Gidsen Vlaanderen vzw | G5: =IF(F5=Lijsten!$B$22,Lijsten!$B$27,Lijsten!$B$26) -> L1612G - Sint-Servaes | H5: =Lijsten!$B$30 -> Geen ontvanger | I5: =Lijsten!$D$4&", "&Lijsten!$D$6&", "&Lijsten!$D$7&", "&Lijsten!$D$8&", "&Lijsten!$D$9&", "&Lijsten!$D$10&", "&Lijsten!$D$14&", "&Lijsten!$D$15&", "&Lijsten!$D$18&", "&Lijsten!$D$24&", "&Lijsten!$D$26&", "&Lijsten!$D$28&", "&Lijsten!$D$29&", "&Lijsten!$D$30&", "&Lijsten!$D$34&", "&Lijsten!$D$35&", "&Lijsten!$D$38 -> Adres, Bijzondere aandacht bij beperkingen of andere zorgen, Bijzondere aandacht bij hygiëne (zelfstandigheid, allergie, bedwateren,…), Bijzondere aandacht bij sociale omgang (pesten, heimwee, angsten, slaapwandelen,…), Bijzondere aandacht bij sporten (zwemmen, fietsen, hoogte, rust,…), Bloedgroep, Dieet, E-mailadres, Geboortedatum, IP-adres, Levensbeschouwelijke overtuigingen, Lidnummer, Medisch dossier, Naam, Overzicht specifieke medicatie, Overzicht ziekten, Telefoonnummer | J5: =J4 -> Betrokkene zelf, Ouder/voogd van betrokkene | K5: =[1]Vragenlijst!I9 -> Groepsadministratie | L5: =L4 -> 10 jaar | M5: =M4 -> Ledenbeheer | N5: =Lijsten!F30 -> Toestemming | O5: 3
A6: Ledenadministratie | B6: Individuele steekkaart | C6: Papieren versie gebruiken | D6: =D5 -> Normale verwerking, Gegevens van minderjarigen, Gegevens waaruit religieuze of levenbeschouwelijke overtuigingen blijken, Gezondheidsgegevens | E6: =E5 -> Lid, Leiding, Ouder/voogd, Familie van lid | F6: =Lijsten!$B$22 -> Scouts en Gidsen Vlaanderen vzw | G6: =IF(F6=Lijsten!$B$22,Lijsten!$B$27,Lijsten!$B$26) -> L1612G - Sint-Servaes | H6: =Lijsten!$B$30 -> Geen ontvanger | I6: =I5 -> Adres, Bijzondere aandacht bij beperkingen of andere zorgen, Bijzondere aandacht bij hygiëne (zelfstandigheid, allergie, bedwateren,…), Bijzondere aandacht bij sociale omgang (pesten, heimwee, angsten, slaapwandelen,…), Bijzondere aandacht bij sporten (zwemmen, fietsen, hoogte, rust,…), Bloedgroep, Dieet, E-mailadres, Geboortedatum, IP-adres, Levensbeschouwelijke overtuigingen, Lidnummer, Medisch dossier, Naam, Overzicht specifieke medicatie, Overzicht ziekten, Telefoonnummer | J6: =J5 -> Betrokkene zelf, Ouder/voogd van betrokkene | K6: =K5 -> Groepsadministratie | L6: =L5 -> 10 jaar | M6: =M5 -> Ledenbeheer | N6: =N5 -> Toestemming | O6: 4
A7: Ledenadministratie | B7: Aantal keer proberen | C7: Gegevens opvragen en bewaren | D7: =Lijsten!B4&", "&Lijsten!B5 -> Normale verwerking, Gegevens van minderjarigen | E7: =Lijsten!B10&", "&Lijsten!B12 -> Lid, Ouder/voogd | F7: =Lijsten!$B$22 -> Scouts en Gidsen Vlaanderen vzw | G7: =IF(F7=Lijsten!$B$22,Lijsten!$B$27,Lijsten!$B$26) -> L1612G - Sint-Servaes | H7: =Lijsten!$B$30 -> Geen ontvanger | I7: =[1]Vragenlijst!I15 -> E-mailadres, Telefoonnummer, Geboortedatum/Leeftijd | J7: =J6 -> Betrokkene zelf, Ouder/voogd van betrokkene | K7: =[1]Vragenlijst!I20 -> Website - https://www.scoutsstservaes.be/, Mailprogramma | L7: =L6 -> 10 jaar | M7: =M6 -> Ledenbeheer | N7: =N4 -> Uitvoering van een contract/overeenkomst | O7: 5
A8: Ledenadministratie | B8: Mailinglijsten | C8: Opstellen en onderhouden | D8: =Lijsten!B4&", "&Lijsten!B5 -> Normale verwerking, Gegevens van minderjarigen | E8: =Lijsten!B10&", "&Lijsten!B11&", "&Lijsten!B12&", "&Lijsten!B14&", "&Lijsten!B15&", "&Lijsten!B16 -> Lid, Leiding, Ouder/voogd, Sympathisant, Oud-lid, Oud-leiding | F8: =Lijsten!$B$23 -> L1612G - Sint-Servaes | G8: =IF(F8=Lijsten!$B$22,Lijsten!$B$27,Lijsten!$B$26) -> Geen verwerker | H8: =Lijsten!$B$30 -> Geen ontvanger | I8: =Lijsten!D15 -> E-mailadres | J8: =J7 -> Betrokkene zelf, Ouder/voogd van betrokkene | K8: =Lijsten!F5&", "&Lijsten!F6 -> Website - https://www.scoutsstservaes.be/, Mailprogramma | L8: =L7 -> 10 jaar | M8: =M7 -> Ledenbeheer | N8: =N7 -> Uitvoering van een contract/overeenkomst | O8: 6
A9: Ledenadministratie | B9: Divers | C9: Oud-leden/leidingbestand bijhouden | D9: =Lijsten!B4&", "&Lijsten!B5 -> Normale verwerking, Gegevens van minderjarigen | E9: =Lijsten!B15&", "&Lijsten!B16 -> Oud-lid, Oud-leiding | F9: =Lijsten!$B$23 -> L1612G - Sint-Servaes | G9: =IF(F9=Lijsten!$B$22,Lijsten!$B$27,Lijsten!$B$26) -> Geen verwerker | H9: =Lijsten!$B$30 -> Geen ontvanger | I9: =[1]Vragenlijst!I33 -> Naam, E-mailadres, Telefoonnummer, Geboortedatum/Leeftijd, Adres, Totem | J9: =J8 -> Betrokkene zelf, Ouder/voogd van betrokkene | K9: =[1]Vragenlijst!I40 -> Google Drive, Google Docs, Google Spreadsheets, Google Forms | L9: 50 jaar | M9: =M8 -> Ledenbeheer | N9: =Lijsten!F31 -> Gerechtvaardigd belang | O9: 7
A10: Ledenadministratie | B10: Divers | C10: Subsidies aanvragen bij gemeente | D10: =Lijsten!B4&", "&Lijsten!B5 -> Normale verwerking, Gegevens van minderjarigen | E10: =Lijsten!B10&", "&Lijsten!B11 -> Lid, Leiding | F10: =Lijsten!$B$23 -> L1612G - Sint-Servaes | G10: =IF(F9=Lijsten!$B$22,Lijsten!$B$27,Lijsten!$B$26) -> Geen verwerker | H10: =Lijsten!$B$30 -> Geen ontvanger | I10: =Lijsten!D30&", "&Lijsten!D4&", "&Lijsten!D38&", "&Lijsten!D18 -> Naam, Adres, Telefoonnummer, Geboortedatum
A11: Activiteiten | B11: Wekelijkse activiteiten | C11: Inschrijvingen opvragen | D11: =Lijsten!$B$4&", "&Lijsten!$B$5&IF([1]Vragenlijst!E52=TRUE,", "&Lijsten!$B$6&", "&Lijsten!$B$7,"") -> Normale verwerking, Gegevens van minderjarigen, Gegevens waaruit religieuze of levenbeschouwelijke overtuigingen blijken, Gezondheidsgegevens | E11: =Lijsten!B10&", "&Lijsten!B11&", "&Lijsten!B12 -> Lid, Leiding, Ouder/voogd | F11: =Lijsten!$B$23 -> L1612G - Sint-Servaes | G11: =IF(F11=Lijsten!$B$22,Lijsten!$B$27,Lijsten!$B$26) -> Geen verwerker | H11: =Lijsten!$B$30 -> Geen ontvanger | I11: =[1]Vragenlijst!I48 -> Naam, E-mailadres, Telefoonnummer, Bijzondere aandacht bij hygiëne (zelfstandigheid, allergie, bedwateren,…), Dieet, Levensbeschouwelijke overtuigingen | J11: =J9 -> Betrokkene zelf, Ouder/voogd van betrokkene | K11: =[1]Vragenlijst!I54 -> Website - https://www.scoutsstservaes.be/ | L11: =L8 -> 10 jaar | M11: =Lijsten!F21 -> Organisatie wekelijkse activiteiten | N11: =N8 -> Uitvoering van een contract/overeenkomst | O11: 8
A12: Activiteiten | B12: Wekelijkse activiteiten | C12: Inschrijvingen bewaren | D12: =D11 -> Normale verwerking, Gegevens van minderjarigen, Gegevens waaruit religieuze of levenbeschouwelijke overtuigingen blijken, Gezondheidsgegevens | E12: =E11 -> Lid, Leiding, Ouder/voogd | F12: =Lijsten!$B$23 -> L1612G - Sint-Servaes | G12: =IF(F12=Lijsten!$B$22,Lijsten!$B$27,Lijsten!$B$26) -> Geen verwerker | H12: =Lijsten!$B$30 -> Geen ontvanger | I12: =I11 -> Naam, E-mailadres, Telefoonnummer, Bijzondere aandacht bij hygiëne (zelfstandigheid, allergie, bedwateren,…), Dieet, Levensbeschouwelijke overtuigingen | J12: =J11 -> Betrokkene zelf, Ouder/voogd van betrokkene | K12: =[1]Vragenlijst!I60 -> Google Drive, Google Docs, Google Spreadsheets, Google Forms | L12: =L11 -> 10 jaar | M12: =M11 -> Organisatie wekelijkse activiteiten | N12: =N11 -> Uitvoering van een contract/overeenkomst | O12: 9
A13: Activiteiten | B13: Wekelijkse activiteiten | C13: Papieren versie gebruiken | D13: =D12 -> Normale verwerking, Gegevens van minderjarigen, Gegevens waaruit religieuze of levenbeschouwelijke overtuigingen blijken, Gezondheidsgegevens | E13: =E12 -> Lid, Leiding, Ouder/voogd | F13: =Lijsten!$B$23 -> L1612G - Sint-Servaes | G13: =IF(F13=Lijsten!$B$22,Lijsten!$B$27,Lijsten!$B$26) -> Geen verwerker | H13: =Lijsten!$B$30 -> Geen ontvanger | I13: =I12 -> Naam, E-mailadres, Telefoonnummer, Bijzondere aandacht bij hygiëne (zelfstandigheid, allergie, bedwateren,…), Dieet, Levensbeschouwelijke overtuigingen | J13: =J12 -> Betrokkene zelf, Ouder/voogd van betrokkene | K13: =K12&IF([1]Vragenlijst!E58=TRUE,"",", "&Lijsten!F7) -> Google Drive, Google Docs, Google Spreadsheets, Google Forms, Papier | L13: =L12 -> 10 jaar | M13: =M12 -> Organisatie wekelijkse activiteiten | N13: =N12 -> Uitvoering van een contract/overeenkomst | O13: 10
A14: Activiteiten | B14: Wekelijkse activiteiten | C14: Betalingen opvolgen | D14: =Lijsten!B4&", "&Lijsten!B5 -> Normale verwerking, Gegevens van minderjarigen | E14: =E13 -> Lid, Leiding, Ouder/voogd | F14: =Lijsten!$B$23 -> L1612G - Sint-Servaes | G14: =IF(F14=Lijsten!$B$22,Lijsten!$B$27,Lijsten!$B$26) -> Geen verwerker | H14: =Lijsten!$B$30 -> Geen ontvanger | I14: =I13&", "&Lijsten!D5 -> Naam, E-mailadres, Telefoonnummer, Bijzondere aandacht bij hygiëne (zelfstandigheid, allergie, bedwateren,…), Dieet, Levensbeschouwelijke overtuigingen, Bankrekeningnummer | J14: =J13 -> Betrokkene zelf, Ouder/voogd van betrokkene | K14: =K12 -> Google Drive, Google Docs, Google Spreadsheets, Google Forms | L14: =L13 -> 10 jaar | M14: =M13 -> Organisatie wekelijkse activiteiten | N14: =N13 -> Uitvoering van een contract/overeenkomst | O14: 11
A15: Activiteiten | B15: Wekelijkse activiteiten | C15: Verzekeringen | D15: =D14 -> Normale verwerking, Gegevens van minderjarigen | E15: =E14 -> Lid, Leiding, Ouder/voogd | F15: =Lijsten!$B$23 -> L1612G - Sint-Servaes | G15: =IF(F15=Lijsten!$B$22,Lijsten!$B$27,Lijsten!$B$26) -> Geen verwerker | H15: =Lijsten!$B$30 -> Geen ontvanger | I15: =Lijsten!D4&", "&Lijsten!D13&", "&Lijsten!D15&", "&Lijsten!D24&", "&Lijsten!D28&", "&Lijsten!D30&", "&Lijsten!D32&", "&Lijsten!D38 -> Adres, Chassisnummer, E-mailadres, IP-adres, Lidnummer, Naam, Nummerplaat, Telefoonnummer | J15: =J14 -> Betrokkene zelf, Ouder/voogd van betrokkene | K15: =K11 -> Website - https://www.scoutsstservaes.be/ | L15: =L14 -> 10 jaar | M15: =M14 -> Organisatie wekelijkse activiteiten | N15: =N14 -> Uitvoering van een contract/overeenkomst | O15: 12
A16: Activiteiten | B16: Wekelijkse activiteiten | C16: Carpoollijsten opstellen | D16: =D14 -> Normale verwerking, Gegevens van minderjarigen | E16: =E14 -> Lid, Leiding, Ouder/voogd | F16: =Lijsten!$B$23 -> L1612G - Sint-Servaes | G16: =IF(F16=Lijsten!$B$22,Lijsten!$B$27,Lijsten!$B$26) -> Geen verwerker | H16: =Lijsten!$B$30 -> Geen ontvanger | I16: =[1]Vragenlijst!I68 -> Naam | J16: =J14 -> Betrokkene zelf, Ouder/voogd van betrokkene | K16: =[1]Vragenlijst!I72 -> Telefoon | L16: =L15 -> 10 jaar | M16: =M14 -> Organisatie wekelijkse activiteiten | N16: =Lijsten!F30 -> Toestemming | O16: 13
A17: Activiteiten | B17: Wekelijkse activiteiten | C17: Carpoollijsten bewaren | D17: =D15 -> Normale verwerking, Gegevens van minderjarigen | E17: =E15 -> Lid, Leiding, Ouder/voogd | F17: =Lijsten!$B$23 -> L1612G - Sint-Servaes | G17: =IF(F17=Lijsten!$B$22,Lijsten!$B$27,Lijsten!$B$26) -> Geen verwerker | H17: =Lijsten!$B$30 -> Geen ontvanger | I17: =I16 -> Naam | J17: =J15 -> Betrokkene zelf, Ouder/voogd van betrokkene | K17: =[1]Vragenlijst!I78 | L17: =L16 -> 10 jaar | M17: =M15 -> Organisatie wekelijkse activiteiten | N17: =N16 -> Toestemming | O17: 13
A18: Activiteiten | B18: Geldactiviteiten | C18: Inschrijvingen opvragen | D18: =Lijsten!$B$4&", "&Lijsten!$B$5&IF([1]Vragenlijst!E90=TRUE,", "&Lijsten!$B$6&", "&Lijsten!$B$7,"") -> Normale verwerking, Gegevens van minderjarigen, Gegevens waaruit religieuze of levenbeschouwelijke overtuigingen blijken, Gezondheidsgegevens | E18: =Lijsten!B10&", "&Lijsten!B11&", "&Lijsten!B12&", "&Lijsten!B13&", "&Lijsten!B14&", "&Lijsten!B15&", "&Lijsten!B16 -> Lid, Leiding, Ouder/voogd, Familie van lid, Sympathisant, Oud-lid, Oud-leiding | F18: =Lijsten!$B$23 -> L1612G - Sint-Servaes | G18: =IF(F18=Lijsten!$B$22,Lijsten!$B$27,Lijsten!$B$26) -> Geen verwerker | H18: =Lijsten!$B$30 -> Geen ontvanger | I18: =[1]Vragenlijst!I86 -> Naam, E-mailadres, Telefoonnummer, Adres, Bijzondere aandacht bij hygiëne (zelfstandigheid, allergie, bedwateren,…), Dieet, Levensbeschouwelijke overtuigingen | J18: =J17 -> Betrokkene zelf, Ouder/voogd van betrokkene | K18: =[1]Vragenlijst!I92 | L18: =L17 -> 10 jaar | M18: =Lijsten!F22 -> Organisatie geldactiviteit | N18: =N15 -> Uitvoering van een contract/overeenkomst | O18: 14
A19: Activiteiten | B19: Geldactiviteiten | C19: Inschrijvingen bewaren | D19: =D18 -> Normale verwerking, Gegevens van minderjarigen, Gegevens waaruit religieuze of levenbeschouwelijke overtuigingen blijken, Gezondheidsgegevens | E19: =E18 -> Lid, Leiding, Ouder/voogd, Familie van lid, Sympathisant, Oud-lid, Oud-leiding | F19: =Lijsten!$B$23 -> L1612G - Sint-Servaes | G19: =IF(F19=Lijsten!$B$22,Lijsten!$B$27,Lijsten!$B$26) -> Geen verwerker | H19: =Lijsten!$B$30 -> Geen ontvanger | I19: =I18 -> Naam, E-mailadres, Telefoonnummer, Adres, Bijzondere aandacht bij hygiëne (zelfstandigheid, allergie, bedwateren,…), Dieet, Levensbeschouwelijke overtuigingen | J19: =J18 -> Betrokkene zelf, Ouder/voogd van betrokkene | K19: =[1]Vragenlijst!I98 | L19: =L18 -> 10 jaar | M19: =M18 -> Organisatie geldactiviteit | N19: =N18 -> Uitvoering van een contract/overeenkomst | O19: 15
A20: Activiteiten | B20: Geldactiviteiten | C20: Papieren versie inschrijvingen gebruiken | D20: =D19 -> Normale verwerking, Gegevens van minderjarigen, Gegevens waaruit religieuze of levenbeschouwelijke overtuigingen blijken, Gezondheidsgegevens | E20: =E19 -> Lid, Leiding, Ouder/voogd, Familie van lid, Sympathisant, Oud-lid, Oud-leiding | F20: =Lijsten!$B$23 -> L1612G - Sint-Servaes | G20: =IF(F20=Lijsten!$B$22,Lijsten!$B$27,Lijsten!$B$26) -> Geen verwerker | H20: =Lijsten!$B$30 -> Geen ontvanger | I20: =I19 -> Naam, E-mailadres, Telefoonnummer, Adres, Bijzondere aandacht bij hygiëne (zelfstandigheid, allergie, bedwateren,…), Dieet, Levensbeschouwelijke overtuigingen | J20: =J19 -> Betrokkene zelf, Ouder/voogd van betrokkene | K20: =K19&IF([1]Vragenlijst!E101=TRUE,"",", "&Lijsten!F7) -> , Papier | L20: =L19 -> 10 jaar | M20: =M19 -> Organisatie geldactiviteit | N20: =N19 -> Uitvoering van een contract/overeenkomst | O20: 16
A21: Activiteiten | B21: Kampen/Weekends | C21: Inschrijvingen opvragen | D21: =Lijsten!$B$4&", "&Lijsten!$B$5&IF([1]Vragenlijst!E110=TRUE,", "&Lijsten!$B$6&", "&Lijsten!$B$7,"") -> Normale verwerking, Gegevens van minderjarigen, Gegevens waaruit religieuze of levenbeschouwelijke overtuigingen blijken, Gezondheidsgegevens | E21: =E11 -> Lid, Leiding, Ouder/voogd | F21: =Lijsten!$B$23 -> L1612G - Sint-Servaes | G21: =IF(F21=Lijsten!$B$22,Lijsten!$B$27,Lijsten!$B$26) -> Geen verwerker | H21: =Lijsten!$B$30 -> Geen ontvanger | I21: =[1]Vragenlijst!I106 -> Naam, E-mailadres, Telefoonnummer, Handtekening, Bijzondere aandacht bij hygiëne (zelfstandigheid, allergie, bedwateren,…), Dieet, Levensbeschouwelijke overtuigingen | J21: =J20 -> Betrokkene zelf, Ouder/voogd van betrokkene | K21: =[1]Vragenlijst!I116 -> Website - https://www.scoutsstservaes.be/, Mailprogramma, Papier | L21: =L20 -> 10 jaar | M21: =Lijsten!F23 -> Organisatie kamp/weekend | N21: =N20 -> Uitvoering van een contract/overeenkomst | O21: 17
A22: Activiteiten | B22: Kampen/Weekends | C22: Extra informatie buitenlands kamp opvragen | D22: =Lijsten!B4&", "&Lijsten!B5 -> Normale verwerking, Gegevens van minderjarigen | E22: =E21 -> Lid, Leiding, Ouder/voogd | F22: =Lijsten!$B$23 -> L1612G - Sint-Servaes | G22: =IF(F22=Lijsten!$B$22,Lijsten!$B$27,Lijsten!$B$26) -> Geen verwerker | H22: =Lijsten!$B$30 -> Geen ontvanger | I22: =[1]Vragenlijst!I112 -> Rijksregisternummer, Identiteitskaartnummer, | J22: =J21 -> Betrokkene zelf, Ouder/voogd van betrokkene | K22: =K21 -> Website - https://www.scoutsstservaes.be/, Mailprogramma, Papier | L22: =L21 -> 10 jaar | M22: =M21 -> Organisatie kamp/weekend | N22: =N21 -> Uitvoering van een contract/overeenkomst | O22: 18
A23: Activiteiten | B23: Kampen/Weekends | C23: Inschrijvingen bewaren | D23: =D21 -> Normale verwerking, Gegevens van minderjarigen, Gegevens waaruit religieuze of levenbeschouwelijke overtuigingen blijken, Gezondheidsgegevens | E23: =E22 -> Lid, Leiding, Ouder/voogd | F23: =Lijsten!$B$23 -> L1612G - Sint-Servaes | G23: =IF(F23=Lijsten!$B$22,Lijsten!$B$27,Lijsten!$B$26) -> Geen verwerker | H23: =Lijsten!$B$30 -> Geen ontvanger | I23: =I21&IF(LEN([1]Vragenlijst!I112)>0,", "&[1]Vragenlijst!I112,"") -> Naam, E-mailadres, Telefoonnummer, Handtekening, Bijzondere aandacht bij hygiëne (zelfstandigheid, allergie, bedwateren,…), Dieet, Levensbeschouwelijke overtuigingen, Rijksregisternummer, Identiteitskaartnummer, | J23: =J22 -> Betrokkene zelf, Ouder/voogd van betrokkene | K23: =[1]Vragenlijst!I122 -> Google Drive, Google Docs, Google Spreadsheets, Google Forms, Papier | L23: =L22 -> 10 jaar | M23: =M22 -> Organisatie kamp/weekend | N23: =N22 -> Uitvoering van een contract/overeenkomst | O23: 19
A24: Activiteiten | B24: Kampen/Weekends | C24: Papieren versie inschrijvingen gebruiken | D24: =D23 -> Normale verwerking, Gegevens van minderjarigen, Gegevens waaruit religieuze of levenbeschouwelijke overtuigingen blijken, Gezondheidsgegevens | E24: =E23 -> Lid, Leiding, Ouder/voogd | F24: =Lijsten!$B$23 -> L1612G - Sint-Servaes | G24: =IF(F24=Lijsten!$B$22,Lijsten!$B$27,Lijsten!$B$26) -> Geen verwerker | H24: =Lijsten!$B$30 -> Geen ontvanger | I24: =I23 -> Naam, E-mailadres, Telefoonnummer, Handtekening, Bijzondere aandacht bij hygiëne (zelfstandigheid, allergie, bedwateren,…), Dieet, Levensbeschouwelijke overtuigingen, Rijksregisternummer, Identiteitskaartnummer, | J24: =J23 -> Betrokkene zelf, Ouder/voogd van betrokkene | K24: =K22 -> Website - https://www.scoutsstservaes.be/, Mailprogramma, Papier | L24: =L23 -> 10 jaar | M24: =M23 -> Organisatie kamp/weekend | N24: =N23 -> Uitvoering van een contract/overeenkomst | O24: 20
A25: Activiteiten | B25: Kampen/Weekends | C25: Betalingen opvolgen | D25: =D14 -> Normale verwerking, Gegevens van minderjarigen | E25: =E24 -> Lid, Leiding, Ouder/voogd | F25: =Lijsten!$B$23 -> L1612G - Sint-Servaes | G25: =IF(F25=Lijsten!$B$22,Lijsten!$B$27,Lijsten!$B$26) -> Geen verwerker | H25: =Lijsten!$B$30 -> Geen ontvanger | I25: =I24&", "&Lijsten!D5 -> Naam, E-mailadres, Telefoonnummer, Handtekening, Bijzondere aandacht bij hygiëne (zelfstandigheid, allergie, bedwateren,…), Dieet, Levensbeschouwelijke overtuigingen, Rijksregisternummer, Identiteitskaartnummer, , Bankrekeningnummer | J25: =J24 -> Betrokkene zelf, Ouder/voogd van betrokkene | K25: =K23 -> Google Drive, Google Docs, Google Spreadsheets, Google Forms, Papier | L25: =L24 -> 10 jaar | M25: =M24 -> Organisatie kamp/weekend | N25: =N24 -> Uitvoering van een contract/overeenkomst | O25: 21
A26: Activiteiten | B26: Kampen/Weekends | C26: Verzekeringen | D26: =D15 -> Normale verwerking, Gegevens van minderjarigen | E26: =E25 -> Lid, Leiding, Ouder/voogd | F26: =Lijsten!$B$22 -> Scouts en Gidsen Vlaanderen vzw | G26: =IF(F26=Lijsten!$B$22,Lijsten!$B$27,Lijsten!$B$26) -> L1612G - Sint-Servaes | H26: =Lijsten!$B$30 -> Geen ontvanger | I26: =I15 -> Adres, Chassisnummer, E-mailadres, IP-adres, Lidnummer, Naam, Nummerplaat, Telefoonnummer | J26: =J25 -> Betrokkene zelf, Ouder/voogd van betrokkene | K26: =K21 -> Website - https://www.scoutsstservaes.be/, Mailprogramma, Papier | L26: =L25 -> 10 jaar | M26: =M25 -> Organisatie kamp/weekend | N26: =N25 -> Uitvoering van een contract/overeenkomst | O26: 22
A27: Activiteiten | B27: Kampen/Weekends | C27: Kampboekjes drukken | D27: =Lijsten!B4&", "&Lijsten!B5 -> Normale verwerking, Gegevens van minderjarigen | E27: =E26 -> Lid, Leiding, Ouder/voogd | F27: =Lijsten!$B$23 -> L1612G - Sint-Servaes | G27: =IF(F27=Lijsten!$B$22,Lijsten!$B$27,Lijsten!$B$26) -> Geen verwerker | H27: =Lijsten!$B$30 -> Geen ontvanger | I27: =Lijsten!D15&", "&Lijsten!D30&", "&Lijsten!D38 -> E-mailadres, Naam, Telefoonnummer | J27: =J26 -> Betrokkene zelf, Ouder/voogd van betrokkene | K27: =Lijsten!F7 -> Papier | L27: =L26 -> 10 jaar | M27: =M26 -> Organisatie kamp/weekend | N27: =N26 -> Uitvoering van een contract/overeenkomst | O27: 23
A28: Activiteiten | B28: Kampen/Weekends | C28: Kampboekjes versturen/uitdelen | D28: =D27 -> Normale verwerking, Gegevens van minderjarigen | E28: =E27 -> Lid, Leiding, Ouder/voogd | F28: =Lijsten!$B$23 -> L1612G - Sint-Servaes | G28: =IF(F28=Lijsten!$B$22,Lijsten!$B$27,Lijsten!$B$26) -> Geen verwerker | H28: =Lijsten!$B$30 -> Geen ontvanger | I28: =Lijsten!D4&", "&Verwerkingsregister!I27 -> Adres, E-mailadres, Naam, Telefoonnummer | J28: =J27 -> Betrokkene zelf, Ouder/voogd van betrokkene | K28: =K27 -> Papier | L28: =L27 -> 10 jaar | M28: =M27 -> Organisatie kamp/weekend | N28: =N27 -> Uitvoering van een contract/overeenkomst | O28: 24
A29: Activiteiten | B29: Kampen/Weekends | C29: Ledenlijsten doorsturen naar gemeente | D29: =Lijsten!B4&", "&Lijsten!B5 -> Normale verwerking, Gegevens van minderjarigen | E29: =E28 -> Lid, Leiding, Ouder/voogd | F29: =Lijsten!$B$23 -> L1612G - Sint-Servaes | G29: =IF(F29=Lijsten!$B$22,Lijsten!$B$27,Lijsten!$B$26) -> Geen verwerker | H29: =Lijsten!$B$33 -> Gemeente Tongeren-Borgloon (B-3700) | I29: =Lijsten!D4&", "&Lijsten!D18&", "&Lijsten!D30&", "&Lijsten!D38 -> Adres, Geboortedatum, Naam, Telefoonnummer | J29: =J28 -> Betrokkene zelf, Ouder/voogd van betrokkene | K29: =Lijsten!F6&", "&Lijsten!F7 -> Mailprogramma, Papier | L29: =L28 -> 10 jaar | M29: =M28 -> Organisatie kamp/weekend | N29: =Lijsten!F29 -> Wettelijke verplichting | O29: 25
A30: Activiteiten | B30: Kampen/Weekends | C30: Carpoollijsten opstellen | D30: =D16 -> Normale verwerking, Gegevens van minderjarigen | E30: =E28 -> Lid, Leiding, Ouder/voogd | F30: =Lijsten!$B$23 -> L1612G - Sint-Servaes | G30: =IF(F30=Lijsten!$B$22,Lijsten!$B$27,Lijsten!$B$26) -> Geen verwerker | H30: =Lijsten!$B$30 -> Geen ontvanger | I30: =[1]Vragenlijst!I129 -> 0 | J30: =J28 -> Betrokkene zelf, Ouder/voogd van betrokkene | K30: =[1]Vragenlijst!I134 -> Telefoon | L30: =L29 -> 10 jaar | M30: =M28 -> Organisatie kamp/weekend | N30: =Lijsten!F30 -> Toestemming | O30: 26
A31: Activiteiten | B31: Kampen/Weekends | C31: Carpoollijsten bewaren | D31: =D17 -> Normale verwerking, Gegevens van minderjarigen | E31: =E29 -> Lid, Leiding, Ouder/voogd | F31: =Lijsten!$B$23 -> L1612G - Sint-Servaes | G31: =IF(F31=Lijsten!$B$22,Lijsten!$B$27,Lijsten!$B$26) -> Geen verwerker | H31: =Lijsten!$B$30 -> Geen ontvanger | I31: =[1]Vragenlijst!I130 -> Naam | J31: =J29 -> Betrokkene zelf, Ouder/voogd van betrokkene | K31: =[1]Vragenlijst!I140 | L31: =L30 -> 10 jaar | M31: =M29 -> Organisatie kamp/weekend | N31: =N30 -> Toestemming | O31: 26
A32: Publicaties | B32: Foto's en video's | C32: Nemen | D32: =Lijsten!B4&", "&Lijsten!B5 -> Normale verwerking, Gegevens van minderjarigen | E32: =Lijsten!B10&", "&Lijsten!B11&", "&Lijsten!B12&", "&Lijsten!B13&", "&Lijsten!B14&", "&Lijsten!B15&", "&Lijsten!B16 -> Lid, Leiding, Ouder/voogd, Familie van lid, Sympathisant, Oud-lid, Oud-leiding | F32: =Lijsten!$B$23 -> L1612G - Sint-Servaes | G32: =IF(F32=Lijsten!$B$22,Lijsten!$B$27,Lijsten!$B$26) -> Geen verwerker | H32: =Lijsten!$B$30 -> Geen ontvanger | I32: =Lijsten!D12&", "&Lijsten!D17 -> Cameraopname, Foto | J32: =J31 -> Betrokkene zelf, Ouder/voogd van betrokkene | K32: =Lijsten!F9&", "&[1]Vragenlijst!I148 -> Fototoestel, Website - https://www.scoutsstservaes.be/, Facebook, Instagram, Whatsapp | L32: =L31 -> 10 jaar | M32: =Lijsten!F24 -> Sfeerbeheer | N32: =N31 -> Toestemming | O32: 27
A33: Publicaties | B33: Foto's en video's | C33: Publiceren | D33: =D32 -> Normale verwerking, Gegevens van minderjarigen | E33: =E32 -> Lid, Leiding, Ouder/voogd, Familie van lid, Sympathisant, Oud-lid, Oud-leiding | F33: =Lijsten!$B$23 -> L1612G - Sint-Servaes | G33: =IF(F33=Lijsten!$B$22,Lijsten!$B$27,Lijsten!$B$26) -> Geen verwerker | H33: =Lijsten!$B$30 -> Geen ontvanger | I33: =I32 -> Cameraopname, Foto | J33: =J32 -> Betrokkene zelf, Ouder/voogd van betrokkene | K33: =K32 -> Fototoestel, Website - https://www.scoutsstservaes.be/, Facebook, Instagram, Whatsapp | L33: =L32 -> 10 jaar | M33: =M32 -> Sfeerbeheer | N33: =N32 -> Toestemming | O33: 28
A34: Publicaties | B34: Programmaboekje | C34: Programmaboekje drukken | D34: =Lijsten!B4&", "&Lijsten!B5 -> Normale verwerking, Gegevens van minderjarigen | E34: =Lijsten!B10&", "&Lijsten!B11 -> Lid, Leiding | F34: =Lijsten!$B$23 -> L1612G - Sint-Servaes | G34: =IF(F34=Lijsten!$B$22,Lijsten!$B$27,Lijsten!$B$26) -> Geen verwerker | H34: =Lijsten!$B$32 -> Drukkerij | I34: =[1]Vragenlijst!I154 -> Naam, E-mailadres, Telefoonnummer, Geboortedatum/Leeftijd, Totem | J34: =J33 -> Betrokkene zelf, Ouder/voogd van betrokkene | K34: =Lijsten!F7 -> Papier | L34: =L33 -> 10 jaar | M34: =Lijsten!F20 -> Communicatie ouders | N34: =N28 -> Uitvoering van een contract/overeenkomst | O34: 29
A35: Publicaties | B35: Programmaboekje | C35: Programmaboekje uitdelen/versturen/publiceren | D35: =D34 -> Normale verwerking, Gegevens van minderjarigen | E35: =Lijsten!B10&", "&Lijsten!B11&", "&Lijsten!B12 -> Lid, Leiding, Ouder/voogd | F35: =Lijsten!$B$23 -> L1612G - Sint-Servaes | G35: =IF(F35=Lijsten!$B$22,Lijsten!$B$27,Lijsten!$B$26) -> Geen verwerker | H35: =Lijsten!$B$30 -> Geen ontvanger | I35: =I34 -> Naam, E-mailadres, Telefoonnummer, Geboortedatum/Leeftijd, Totem | J35: =J34 -> Betrokkene zelf, Ouder/voogd van betrokkene | K35: =Lijsten!F6&", "&Lijsten!F7 -> Mailprogramma, Papier | L35: =L34 -> 10 jaar | M35: =M34 -> Communicatie ouders | N35: =N34 -> Uitvoering van een contract/overeenkomst | O35: 30
A36: Verhuur | B36: Materiaal/lokalen | C36: Gegevens opvragen | D36: =Lijsten!B4 -> Normale verwerking | E36: =Lijsten!B18&", "&Lijsten!B19 -> Verhuurder, Huurder | F36: =Lijsten!$B$23 -> L1612G - Sint-Servaes | G36: =IF(F36=Lijsten!$B$22,Lijsten!$B$27,Lijsten!$B$26) -> Geen verwerker | H36: =Lijsten!$B$30 -> Geen ontvanger | I36: =[1]Vragenlijst!I164 -> Naam, E-mailadres, Telefoonnummer, Adres, Handtekening | J36: =J35 -> Betrokkene zelf, Ouder/voogd van betrokkene | K36: =[1]Vragenlijst!I171 -> Papier | L36: =L35 -> 10 jaar | M36: =Lijsten!F25 -> Verhuur materiaal/lokalen | N36: =N35 -> Uitvoering van een contract/overeenkomst | O36: 31
A37: Verhuur | B37: Materiaal/lokalen | C37: Gegevens bewaren | D37: =D36 -> Normale verwerking | E37: =E36 -> Verhuurder, Huurder | F37: =Lijsten!$B$23 -> L1612G - Sint-Servaes | G37: =IF(F37=Lijsten!$B$22,Lijsten!$B$27,Lijsten!$B$26) -> Geen verwerker | H37: =Lijsten!$B$30 -> Geen ontvanger | I37: =I36 -> Naam, E-mailadres, Telefoonnummer, Adres, Handtekening | J37: =J36 -> Betrokkene zelf, Ouder/voogd van betrokkene | K37: =[1]Vragenlijst!I177 -> Papier | L37: =L36 -> 10 jaar | M37: =M36 -> Verhuur materiaal/lokalen | N37: =N36 -> Uitvoering van een contract/overeenkomst | O37: 32

Sheet Lijsten
B1: Keuzelijsten verwerkingsregister
B3: Categorieën verwerkingen | D3: Persoonsgegevens | F3: Gebruikte technologie
B4: Normale verwerking | D4: Adres | F4: Groepsadministratie
B5: Gegevens van minderjarigen | D5: Bankrekeningnummer | F5: =IF('[1]Algemene informatie'!C12=1,IF(LEN('[1]Algemene informatie'!B13)>0,"Website - "&'[1]Algemene informatie'!B13,"Geen website URL opgegeven"),"Website") -> Website - https://www.scoutsstservaes.be/
B6: Gegevens waaruit religieuze of levenbeschouwelijke overtuigingen blijken | D6: Bijzondere aandacht bij beperkingen of andere zorgen | F6: Mailprogramma
B7: Gezondheidsgegevens | D7: Bijzondere aandacht bij hygiëne (zelfstandigheid, allergie, bedwateren,…) | F7: Papier
D8: Bijzondere aandacht bij sociale omgang (pesten, heimwee, angsten, slaapwandelen,…) | F8: Telefoon
B9: Betrokkenen | D9: Bijzondere aandacht bij sporten (zwemmen, fietsen, hoogte, rust,…) | F9: Fototoestel
B10: Lid | D10: Bloedgroep | F10: MS Word, MS Excel, MS Access
B11: Leiding | D11: Burgerlijke staat | F11: Google Drive, Google Docs, Google Spreadsheets, Google Forms
B12: Ouder/voogd | D12: Cameraopname | F12: Dropbox
B13: Familie van lid | D13: Chassisnummer | F13: Facebook
B14: Sympathisant | D14: Dieet | F14: Instagram
B15: Oud-lid | D15: E-mailadres | F15: Whatsapp
B16: Oud-leiding | D16: Financiële hulp | F16: Snapchat
B17: Lid vzw | D17: Foto
B18: Verhuurder | D18: Geboortedatum | F18: Verwerkingsdoel
B19: Huurder | D19: Geboorteplaats | F19: Ledenbeheer
D20: Geslacht | F20: Communicatie ouders
B21: Verantwoordelijken | D21: Handtekening | F21: Organisatie wekelijkse activiteiten
B22: ='[1]Algemene informatie'!A1 -> Scouts en Gidsen Vlaanderen vzw | D22: Identiteitskaartnummer | F22: Organisatie geldactiviteit
B23: =IF(AND(LEN('[1]Algemene informatie'!B8)>0,LEN('[1]Algemene informatie'!B9)>0),'[1]Algemene informatie'!B8&" - "&'[1]Algemene informatie'!B9,"Groepsinformatie niet opgegeven") -> L1612G - Sint-Servaes | D23: Inenting tegen klem (tetanus) | F23: Organisatie kamp/weekend
D24: IP-adres | F24: Sfeerbeheer
B25: Verwerkers | D25: Leeftijd | F25: Verhuur materiaal/lokalen
B26: Geen verwerker | D26: Levensbeschouwelijke overtuigingen
B27: =B23 -> L1612G - Sint-Servaes | D27: Lidmaatschap (van een organisatie/vereniging) | F27: Verwerkingsgrond
D28: Lidnummer | F28: Uitvoering van een contract/overeenkomst
B29: Ontvangers | D29: Medisch dossier | F29: Wettelijke verplichting
B30: Geen ontvanger | D30: Naam | F30: Toestemming
B31: =B37 -> Ouder/voogd van betrokkene | D31: Nationaliteit | F31: Gerechtvaardigd belang
B32: Drukkerij | D32: Nummerplaat | F32: Vitaal belang
B33: ="Gemeente "&'[1]Algemene informatie'!$B$10&" (B-"&'[1]Algemene informatie'!B11&")" -> Gemeente Tongeren-Borgloon (B-3700) | D33: Overzicht aanwezigheden | F33: Algemeen belang
D34: Overzicht specifieke medicatie
B35: Gegevensbron | D35: Overzicht ziekten
B36: Betrokkene zelf | D36: Paspoortnummer
B37: =B12&" van betrokkene" -> Ouder/voogd van betrokkene | D37: Rijksregisternummer
D38: Telefoonnummer
D39: Titel
D40: Totem
